BEGIN:VCALENDAR
VERSION:2.0
PRODID:-//NAF MC Oslo - ECPv6.15.18//NONSGML v1.0//EN
CALSCALE:GREGORIAN
METHOD:PUBLISH
X-ORIGINAL-URL:https://nafmcoslo.no
X-WR-CALDESC:Arrangement for NAF MC Oslo
REFRESH-INTERVAL;VALUE=DURATION:PT1H
X-Robots-Tag:noindex
X-PUBLISHED-TTL:PT1H
BEGIN:VTIMEZONE
TZID:Europe/Oslo
BEGIN:DAYLIGHT
TZOFFSETFROM:+0100
TZOFFSETTO:+0200
TZNAME:CEST
DTSTART:20230326T010000
END:DAYLIGHT
BEGIN:STANDARD
TZOFFSETFROM:+0200
TZOFFSETTO:+0100
TZNAME:CET
DTSTART:20231029T010000
END:STANDARD
BEGIN:DAYLIGHT
TZOFFSETFROM:+0100
TZOFFSETTO:+0200
TZNAME:CEST
DTSTART:20240331T010000
END:DAYLIGHT
BEGIN:STANDARD
TZOFFSETFROM:+0200
TZOFFSETTO:+0100
TZNAME:CET
DTSTART:20241027T010000
END:STANDARD
BEGIN:DAYLIGHT
TZOFFSETFROM:+0100
TZOFFSETTO:+0200
TZNAME:CEST
DTSTART:20250330T010000
END:DAYLIGHT
BEGIN:STANDARD
TZOFFSETFROM:+0200
TZOFFSETTO:+0100
TZNAME:CET
DTSTART:20251026T010000
END:STANDARD
END:VTIMEZONE
BEGIN:VEVENT
DTSTART;TZID=Europe/Oslo:20240306T170000
DTEND;TZID=Europe/Oslo:20240306T200000
DTSTAMP:20260423T231148
CREATED:20240303T112619Z
LAST-MODIFIED:20240303T112619Z
UID:10000238-1709744400-1709755200@nafmcoslo.no
SUMMARY:Klubbkveld hos Bullfighter
DESCRIPTION:Det blir klubbkveld hos Bullfighter på Alnabru onsdag 6. mars fra kl. 1700 til 2000. Kom innom for gode tilbud på bekledning og annet!
URL:https://nafmcoslo.no/kalender/klubbkveld-hos-bullfighter/
LOCATION:Bullfighter AS\, Nedre Kalbakkvei 88\, Oslo\, 1081\, Norge
ATTACH;FMTTYPE=image/jpeg:https://nafmcoslo.no/wp-content/uploads/2024/02/279558512_5235359106528601_6236556051945182809_n.jpg
END:VEVENT
BEGIN:VEVENT
DTSTART;TZID=Europe/Oslo:20240314T190000
DTEND;TZID=Europe/Oslo:20240314T210000
DTSTAMP:20260423T231148
CREATED:20230829T095004Z
LAST-MODIFIED:20240228T113347Z
UID:10000214-1710442800-1710450000@nafmcoslo.no
SUMMARY:Temakveld med Grustur i Øst
DESCRIPTION:Vi får besøk av Pål fra Grustur i Øst. Han kommer for å fortelle litt om hvordan det er å kjøre på grus og annet spennende underlag. Grustur i Øst tilbyr både kurs og turer for de som ønsker å kjøre på grus. \nFor mer informasjon om Grustur i Øst se: https://grusturiost.no/ \nVi byr selvfølgelig på kaffe og vafler som vanlig når det er temakveld. Velkommen!
URL:https://nafmcoslo.no/kalender/temakveld-med-grustur-i-ost/
LOCATION:NAF MC Oslo\, Brynsveien 2-4\, Oslo\, 0667\, Norge
ATTACH;FMTTYPE=image/jpeg:https://nafmcoslo.no/wp-content/uploads/2023/08/grustur-i-ost-2.jpg
END:VEVENT
BEGIN:VEVENT
DTSTART;TZID=Europe/Oslo:20240315T180000
DTEND;TZID=Europe/Oslo:20240315T233000
DTSTAMP:20260423T231148
CREATED:20240226T122108Z
LAST-MODIFIED:20240226T122108Z
UID:10000227-1710525600-1710545400@nafmcoslo.no
SUMMARY:Quiz-kveld
DESCRIPTION:Vi inviterer til Quiz-kveld for alle medlemmer på klubben. Dette er en fin anledning til å skjerpe allmennkunnskaper\, MC-kunnskaper og andre egenskaper slik at vi er best mulig forberedt til Kråkeracet senere på våren. Normalt gjør klubben det veldig skarpt på Kråkeracet\, og det skyldes både at vi har de glupeste folkene og at vi får god trening på Quiz-kveldene våre. Møt opp på klubben kl. 1800 fredag 15. mars\, og ta gjerne med medbrakt drikke som får hjernecellene på gli!
URL:https://nafmcoslo.no/kalender/quiz-kveld/
LOCATION:NAF MC Oslo\, Brynsveien 2-4\, Oslo\, 0667\, Norge
ATTACH;FMTTYPE=image/jpeg:https://nafmcoslo.no/wp-content/uploads/2021/10/quiz.jpg
END:VEVENT
END:VCALENDAR