BEGIN:VCALENDAR
VERSION:2.0
PRODID:-//NAF MC Oslo - ECPv6.15.18//NONSGML v1.0//EN
CALSCALE:GREGORIAN
METHOD:PUBLISH
X-ORIGINAL-URL:https://nafmcoslo.no
X-WR-CALDESC:Arrangement for NAF MC Oslo
REFRESH-INTERVAL;VALUE=DURATION:PT1H
X-Robots-Tag:noindex
X-PUBLISHED-TTL:PT1H
BEGIN:VTIMEZONE
TZID:Europe/Oslo
BEGIN:DAYLIGHT
TZOFFSETFROM:+0100
TZOFFSETTO:+0200
TZNAME:CEST
DTSTART:20230326T010000
END:DAYLIGHT
BEGIN:STANDARD
TZOFFSETFROM:+0200
TZOFFSETTO:+0100
TZNAME:CET
DTSTART:20231029T010000
END:STANDARD
BEGIN:DAYLIGHT
TZOFFSETFROM:+0100
TZOFFSETTO:+0200
TZNAME:CEST
DTSTART:20240331T010000
END:DAYLIGHT
BEGIN:STANDARD
TZOFFSETFROM:+0200
TZOFFSETTO:+0100
TZNAME:CET
DTSTART:20241027T010000
END:STANDARD
BEGIN:DAYLIGHT
TZOFFSETFROM:+0100
TZOFFSETTO:+0200
TZNAME:CEST
DTSTART:20250330T010000
END:DAYLIGHT
BEGIN:STANDARD
TZOFFSETFROM:+0200
TZOFFSETTO:+0100
TZNAME:CET
DTSTART:20251026T010000
END:STANDARD
END:VTIMEZONE
BEGIN:VEVENT
DTSTART;TZID=Europe/Oslo:20240420T100000
DTEND;TZID=Europe/Oslo:20240420T150000
DTSTAMP:20260423T213014
CREATED:20240228T073412Z
LAST-MODIFIED:20240305T071610Z
UID:10000229-1713607200-1713625200@nafmcoslo.no
SUMMARY:Dugnad på klubben
DESCRIPTION:Vi rydder og vasker klubblokalet etter at alle syklene er tatt ut fra vinterlagring. Møt opp i lette arbeidsklær og med arbeidslyst!
URL:https://nafmcoslo.no/kalender/dugnad-pa-klubben-3/
LOCATION:NAF MC Oslo\, Brynsveien 2-4\, Oslo\, 0667\, Norge
ATTACH;FMTTYPE=image/jpeg:https://nafmcoslo.no/wp-content/uploads/2022/02/dugnad-1.jpg
END:VEVENT
BEGIN:VEVENT
DTSTART;TZID=Europe/Oslo:20240421T115500
DTEND;TZID=Europe/Oslo:20240421T140000
DTSTAMP:20260423T213014
CREATED:20240228T074212Z
LAST-MODIFIED:20240419T084441Z
UID:10000230-1713700500-1713708000@nafmcoslo.no
SUMMARY:Søndagstur rundt Øyeren
DESCRIPTION:Årets første søndagstur går rundt Øyeren. Møt opp på parkeringsplassen ved YX Fetsund kl. 1155\, med full tank på sykkelen og tom tank på sjåføren! Vi tar en kort pause på Solbergfoss etter ca. tre kvarter\, og avslutter turen på Best-stasjonen i Rælingen ca. kl. 1400.
URL:https://nafmcoslo.no/kalender/sondagstur-rundt-oyeren/
LOCATION:YX Fetsund\, Kirkeveien 75\, Fetsund
ATTACH;FMTTYPE=image/jpeg:https://nafmcoslo.no/wp-content/uploads/2024/02/IMG_20200524_141242-scaled.jpg
END:VEVENT
END:VCALENDAR