BEGIN:VCALENDAR
VERSION:2.0
PRODID:-//NAF MC Oslo - ECPv6.15.18//NONSGML v1.0//EN
CALSCALE:GREGORIAN
METHOD:PUBLISH
X-ORIGINAL-URL:https://nafmcoslo.no
X-WR-CALDESC:Arrangement for NAF MC Oslo
REFRESH-INTERVAL;VALUE=DURATION:PT1H
X-Robots-Tag:noindex
X-PUBLISHED-TTL:PT1H
BEGIN:VTIMEZONE
TZID:Europe/Oslo
BEGIN:DAYLIGHT
TZOFFSETFROM:+0100
TZOFFSETTO:+0200
TZNAME:CEST
DTSTART:20230326T010000
END:DAYLIGHT
BEGIN:STANDARD
TZOFFSETFROM:+0200
TZOFFSETTO:+0100
TZNAME:CET
DTSTART:20231029T010000
END:STANDARD
BEGIN:DAYLIGHT
TZOFFSETFROM:+0100
TZOFFSETTO:+0200
TZNAME:CEST
DTSTART:20240331T010000
END:DAYLIGHT
BEGIN:STANDARD
TZOFFSETFROM:+0200
TZOFFSETTO:+0100
TZNAME:CET
DTSTART:20241027T010000
END:STANDARD
BEGIN:DAYLIGHT
TZOFFSETFROM:+0100
TZOFFSETTO:+0200
TZNAME:CEST
DTSTART:20250330T010000
END:DAYLIGHT
BEGIN:STANDARD
TZOFFSETFROM:+0200
TZOFFSETTO:+0100
TZNAME:CET
DTSTART:20251026T010000
END:STANDARD
END:VTIMEZONE
BEGIN:VEVENT
DTSTART;TZID=Europe/Oslo:20240501T100000
DTEND;TZID=Europe/Oslo:20240501T170000
DTSTAMP:20260423T195053
CREATED:20240228T082527Z
LAST-MODIFIED:20240228T112847Z
UID:10000231-1714557600-1714582800@nafmcoslo.no
SUMMARY:Kråkeracet
DESCRIPTION:NAF MC Oslo deltar som vanlig på Kråkeracet i Moss med en sterk delegasjon. Moss MC-klubb arrangerer dette rebusløpet hvert år i området øst for Moss. NAF MC Oslo er som regel en av de klubbene med flest deltakere\, og gjør det som regel ganske skarpt. Møt opp på Shell Mortensrud litt før kl. 1000 for felles avreise. Det pleier å koste kr. 100 pr. person for å delta i rebusløpet\, og de selger brus\, pølser og annet snadder ved klubblokalet deres. De tar Vipps\, kort og kontanter. Vi tar værforbehold på arrangementet. Blir det snø og/eller vanskelige kjøreforhold holder vi oss hjemme.
URL:https://nafmcoslo.no/kalender/krakeracet-4/
LOCATION:ST1 Mortensrud
ATTACH;FMTTYPE=image/jpeg:https://nafmcoslo.no/wp-content/uploads/2024/02/279377072_5235359229861922_6954914110945604786_n.jpg
END:VEVENT
BEGIN:VEVENT
DTSTART;TZID=Europe/Oslo:20240506T180000
DTEND;TZID=Europe/Oslo:20240506T200000
DTSTAMP:20260423T195053
CREATED:20240501T201837Z
LAST-MODIFIED:20240501T201837Z
UID:10000248-1715018400-1715025600@nafmcoslo.no
SUMMARY:Kurs i dekkomlegging mandag 6. mai
DESCRIPTION:Vi avholder gratis kurs i i dekkomlegging for medlemmer i NAF MC Oslo. Les mer om kurset og meld deg på her!
URL:https://nafmcoslo.no/kalender/kurs-i-dekkomlegging-mandag-6-mai/
LOCATION:NAF MC Oslo\, Brynsveien 2-4\, Oslo\, 0667\, Norge
ATTACH;FMTTYPE=image/jpeg:https://nafmcoslo.no/wp-content/uploads/2021/08/dekkomlegging.jpg
END:VEVENT
BEGIN:VEVENT
DTSTART;TZID=Europe/Oslo:20240508T170000
DTEND;TZID=Europe/Oslo:20240508T200000
DTSTAMP:20260423T195053
CREATED:20240429T085023Z
LAST-MODIFIED:20240429T094544Z
UID:10000246-1715187600-1715198400@nafmcoslo.no
SUMMARY:MC-dugnaden
DESCRIPTION:Det skal være et arrangement i forbindelse med MC-dugnaden i regi av Statens vegvesen\, NMCU\, m.fl. på Tyrigrava 8. mai. Det blir trolig noen appeller\, foredrag og pressedekning. Det blir trolig mange sykler der denne dagen. Norges største motorsykkelklubb\, NAF MC Oslo\, er selvfølgelig til stede. Vi møtes fra kl. 1700 og utover!
URL:https://nafmcoslo.no/kalender/mc-dugnaden/
LOCATION:Tyrigrava\, Gamle Mossevei 43-55\, Svartskog\, Norge
ATTACH;FMTTYPE=image/jpeg:https://nafmcoslo.no/wp-content/uploads/2024/04/Tyrigrava-scaled.jpg
END:VEVENT
BEGIN:VEVENT
DTSTART;TZID=Europe/Oslo:20240511T090000
DTEND;TZID=Europe/Oslo:20240511T200000
DTSTAMP:20260423T195053
CREATED:20240429T085820Z
LAST-MODIFIED:20240429T094722Z
UID:10000247-1715418000-1715457600@nafmcoslo.no
SUMMARY:Oppfriskningskurs på Eggemoen 11.mai
DESCRIPTION:Vi avholder vårt årlige Oppfriskningskurs på Eggemoen ved Hønefoss lørdag 11. mai. Les her for mer informasjon og påmelding! \n 
URL:https://nafmcoslo.no/kalender/oppfriskningskurs-pa-eggemoen-11-mai/
LOCATION:Eggemoen gokart-bane\, Eggemoveien 297\, Hønefoss\, 3514\, Norge
ATTACH;FMTTYPE=image/jpeg:https://nafmcoslo.no/wp-content/uploads/2021/04/Sikker-pa-MC-Drammen-07-scaled.jpg
END:VEVENT
BEGIN:VEVENT
DTSTART;TZID=Europe/Oslo:20240512T100000
DTEND;TZID=Europe/Oslo:20240512T170000
DTSTAMP:20260423T195053
CREATED:20240301T084656Z
LAST-MODIFIED:20240301T084656Z
UID:10000232-1715508000-1715533200@nafmcoslo.no
SUMMARY:Søndagstur til Skjærhalden
DESCRIPTION:Bli med på søndagstur til Skjærhalden på Hvaler 12. mai! Møte opp litt før kl. 1000 på Circle K Brynseng (i Østensjøveien\, like ved klubblokalet) med full tank på sykkelen og tom tank på sjåføren!
URL:https://nafmcoslo.no/kalender/sondagstur-til-skjaerhalden/
LOCATION:Circle K Brynseng\, Østensjøveien 32\, Oslo\, Oslo\, 0667\, Norge
ATTACH;FMTTYPE=image/jpeg:https://nafmcoslo.no/wp-content/uploads/2024/02/IMG_20200814_100435-scaled.jpg
END:VEVENT
BEGIN:VEVENT
DTSTART;VALUE=DATE:20240517
DTEND;VALUE=DATE:20240521
DTSTAMP:20260423T195053
CREATED:20240301T085857Z
LAST-MODIFIED:20240424T063801Z
UID:10000233-1715904000-1716249599@nafmcoslo.no
SUMMARY:Pinsetur 2024
DESCRIPTION:Pinseturen går i år til Morgedal i Telemark. Turen er fullbooket\, men det er mulig å sette seg på venteliste her. Oppmøtested og tid blir opplyst til de som får plass på turen.
URL:https://nafmcoslo.no/kalender/pinsetur-2024/
LOCATION:Morgedal Hotell Telemark
ATTACH;FMTTYPE=image/jpeg:https://nafmcoslo.no/wp-content/uploads/2024/03/284812317_5837661199594722_4111880113244217910_n.jpg
END:VEVENT
END:VCALENDAR