BEGIN:VCALENDAR
VERSION:2.0
PRODID:-//NAF MC Oslo - ECPv6.15.18//NONSGML v1.0//EN
CALSCALE:GREGORIAN
METHOD:PUBLISH
X-ORIGINAL-URL:https://nafmcoslo.no
X-WR-CALDESC:Arrangement for NAF MC Oslo
REFRESH-INTERVAL;VALUE=DURATION:PT1H
X-Robots-Tag:noindex
X-PUBLISHED-TTL:PT1H
BEGIN:VTIMEZONE
TZID:Europe/Oslo
BEGIN:DAYLIGHT
TZOFFSETFROM:+0100
TZOFFSETTO:+0200
TZNAME:CEST
DTSTART:20230326T010000
END:DAYLIGHT
BEGIN:STANDARD
TZOFFSETFROM:+0200
TZOFFSETTO:+0100
TZNAME:CET
DTSTART:20231029T010000
END:STANDARD
BEGIN:DAYLIGHT
TZOFFSETFROM:+0100
TZOFFSETTO:+0200
TZNAME:CEST
DTSTART:20240331T010000
END:DAYLIGHT
BEGIN:STANDARD
TZOFFSETFROM:+0200
TZOFFSETTO:+0100
TZNAME:CET
DTSTART:20241027T010000
END:STANDARD
BEGIN:DAYLIGHT
TZOFFSETFROM:+0100
TZOFFSETTO:+0200
TZNAME:CEST
DTSTART:20250330T010000
END:DAYLIGHT
BEGIN:STANDARD
TZOFFSETFROM:+0200
TZOFFSETTO:+0100
TZNAME:CET
DTSTART:20251026T010000
END:STANDARD
END:VTIMEZONE
BEGIN:VEVENT
DTSTART;TZID=Europe/Oslo:20240615T080000
DTEND;TZID=Europe/Oslo:20240625T200000
DTSTAMP:20260423T211912
CREATED:20230930T230020Z
LAST-MODIFIED:20240224T160130Z
UID:10000224-1718438400-1719345600@nafmcoslo.no
SUMMARY:Jubileumstur til Dolomittene 2024
DESCRIPTION:I 2024 fyller NAF MC Oslo 35 år\, og vi feirer jubileum. I hvert jubileumsår reiser vi på en lengre tur utenlands. Denne gangen planlegger vi Jubileumstur til Dolomittene i Italia. Dette området er kjent for flott natur og fantastiske motorsykkelveier. Reisen starter lørdag 15. juni og avsluttes tirsdag 25. juni 2024. Det blir altså 10 overnattinger og 11 fantastiske dager med motorsykkelkjøring.\n\n\n\n\n\n\n\n\n\n\n\n\nKjøreplanen blir omtrent som følger:\nDag 1: München – Chiemsee – Inzell – Steinpass – Kniepass– Zell am See\, ca. 200 km\, kjøretid ca. 3 timer \nDag 2: Zell am See – Grossglockner – Plöckenpass – Sella Ciampigotto – Cortina d’Ampezzo\, ca. 260 km\, kjøretid ca. 5 timer. \nDag 3: Dagstur fra Cortina d’Ampezzo med bl.a. Frea\, Pordoi og Falzarego\, ca. 220 km\, kjøretid ca. 4 timer. \nDag 4: Dagstur fra Cortina d’Ampezzo med bl.a. Giau\, Fedaia\, Sella\, Varparola og Falzarego\, ca. 130 km\, kjøretid ca. 3 timer og 30 minutter. \nDag 5: Cortina d’Ampezzo – Pordoi – Canazei – Trento\, ca. 200 km\, kjøretid ca. 4 timer. \nDag 6: Dagstur fra Trento med bl.a. Passo Bondone\, Passo Bordala og Passo Santa Barbara\, ca. 180 km\, kjøretid ca. 3 timer og 30 minutter \nDag 7: Trento – Passo Tonale\, Passo del Gavia\, Santa Caterina – Bormio\, ca. 210 km\, kjøretid ca. 4 timer og 15 minutter. \nDag 8: Dagstur fra Bormio med bl.a. Umbrail\, Schluderns og Stelvio\, ca. 140 km\, kjøretid ca. 3 timer og 30 minutter. \nDag 9: Dagstur fra Bormio med bl.a. Livigno og Tirano\, Ca. 170 km\, kjøretid ca. 4 timer. \nDag 10: Bormio – Stelvio – Timmelsjoch – Sölden – Seefeld in Tirol\, ca. 260 km\, kjøretid ca. 4 timer og 30 minutter. \nDag 11: Seefeld in Tirol- Bad Tölz – Holzkirchen – München\, ca. 160 km\, kjøretid ca. 2 timer og 30 minutter. \nKjørerutene vil til en viss grad kunne tilpasses deltakernes ønsker og behov. Flere av overnattingene blir på samme hotell\, slik at det er mulig å kjøre egne ruter eller ta en pausedag for de som ønsker. Vi tar forbehold om endringer i kjøreplanen etter detaljplanlegging. \nFor mer informasjon og påmelding se: Jubileumstur til Dolomittene 2024 – NAF MC Oslo
URL:https://nafmcoslo.no/kalender/jubileumstur-til-dolomittene-2024/
LOCATION:Oslo
CATEGORIES:Turer
ATTACH;FMTTYPE=image/jpeg:https://nafmcoslo.no/wp-content/uploads/2024/02/20220620_114030.jpg
END:VEVENT
END:VCALENDAR