BEGIN:VCALENDAR
VERSION:2.0
PRODID:-//NAF MC Oslo - ECPv6.15.18//NONSGML v1.0//EN
CALSCALE:GREGORIAN
METHOD:PUBLISH
X-ORIGINAL-URL:https://nafmcoslo.no
X-WR-CALDESC:Arrangement for NAF MC Oslo
REFRESH-INTERVAL;VALUE=DURATION:PT1H
X-Robots-Tag:noindex
X-PUBLISHED-TTL:PT1H
BEGIN:VTIMEZONE
TZID:Europe/Oslo
BEGIN:DAYLIGHT
TZOFFSETFROM:+0100
TZOFFSETTO:+0200
TZNAME:CEST
DTSTART:20230326T010000
END:DAYLIGHT
BEGIN:STANDARD
TZOFFSETFROM:+0200
TZOFFSETTO:+0100
TZNAME:CET
DTSTART:20231029T010000
END:STANDARD
BEGIN:DAYLIGHT
TZOFFSETFROM:+0100
TZOFFSETTO:+0200
TZNAME:CEST
DTSTART:20240331T010000
END:DAYLIGHT
BEGIN:STANDARD
TZOFFSETFROM:+0200
TZOFFSETTO:+0100
TZNAME:CET
DTSTART:20241027T010000
END:STANDARD
BEGIN:DAYLIGHT
TZOFFSETFROM:+0100
TZOFFSETTO:+0200
TZNAME:CEST
DTSTART:20250330T010000
END:DAYLIGHT
BEGIN:STANDARD
TZOFFSETFROM:+0200
TZOFFSETTO:+0100
TZNAME:CET
DTSTART:20251026T010000
END:STANDARD
END:VTIMEZONE
BEGIN:VEVENT
DTSTART;TZID=Europe/Oslo:20240811T100000
DTEND;TZID=Europe/Oslo:20240811T180000
DTSTAMP:20260424T003620
CREATED:20240301T091219Z
LAST-MODIFIED:20240306T183444Z
UID:10000235-1723370400-1723399200@nafmcoslo.no
SUMMARY:Søndagstur til Gaustatoppen
DESCRIPTION:Årets søndagstur til Gaustatoppen blir 11. august. Turen er til dels lang og krevende\, og egner seg best for MC-sjåfører med noe erfaring. Møt opp på Circle K Kjelstad ved Drammen litt før kl. 10 med full tank på sykkelen og tom tank på sjåføren!
URL:https://nafmcoslo.no/kalender/sondagstur-til-gaustatoppen-4/
LOCATION:Circle K Kjelstad\, Ringeriksveien 80\, Lier\, Drammen\, 3402\, Norge
ATTACH;FMTTYPE=image/jpeg:https://nafmcoslo.no/wp-content/uploads/2024/03/20210815_122637.jpg
END:VEVENT
BEGIN:VEVENT
DTSTART;VALUE=DATE:20240815
DTEND;VALUE=DATE:20240819
DTSTAMP:20260424T003620
CREATED:20240301T092747Z
LAST-MODIFIED:20240409T083930Z
UID:10000237-1723680000-1724025599@nafmcoslo.no
SUMMARY:Augusttur til Setesdal\, Sauda og Geilo
DESCRIPTION:Årets Augusttur går til Rysstad i Setesdal\, Sauda og Geilo fra 15. til 18. august. Turen vil by på svingete veier i Telemark\, flotte fjelloverganger og vestlandske fjorder. Plass i enkeltrom er allerede fullbooket på turen\, men vi har fremdeles noen ledige plasser i dobbeltrom. Oppmøtested og tid bli opplyst til de som får plass på turen.
URL:https://nafmcoslo.no/kalender/augusttur-til-setesdal-sauda-og-geilo/
LOCATION:Rysstad\, Sauda og Geilo
ATTACH;FMTTYPE=image/jpeg:https://nafmcoslo.no/wp-content/uploads/2024/03/285820203_5837661546261354_313776260626784760_n.jpg
END:VEVENT
BEGIN:VEVENT
DTSTART;TZID=Europe/Oslo:20240830T140000
DTEND;TZID=Europe/Oslo:20240901T170000
DTSTAMP:20260424T003620
CREATED:20240301T092113Z
LAST-MODIFIED:20240809T103136Z
UID:10000236-1725026400-1725210000@nafmcoslo.no
SUMMARY:Helgetur på grus
DESCRIPTION:Årets siste helgetur blir på grus\, men er også gjennomførbar for vanlige sykler med vanlige dekk. Les mer om turen og meld deg på her: https://nafmcoslo.no/helgetur-pa-grus/
URL:https://nafmcoslo.no/kalender/sondagstur-pa-grus/
LOCATION:Oslo\, Brynsveien 2-4\, OSLO\, 0667\, Norge
ATTACH;FMTTYPE=image/jpeg:https://nafmcoslo.no/wp-content/uploads/2023/10/Grustur.jpeg
END:VEVENT
END:VCALENDAR