BEGIN:VCALENDAR
VERSION:2.0
PRODID:-//NAF MC Oslo - ECPv6.15.18//NONSGML v1.0//EN
CALSCALE:GREGORIAN
METHOD:PUBLISH
X-ORIGINAL-URL:https://nafmcoslo.no
X-WR-CALDESC:Arrangement for NAF MC Oslo
REFRESH-INTERVAL;VALUE=DURATION:PT1H
X-Robots-Tag:noindex
X-PUBLISHED-TTL:PT1H
BEGIN:VTIMEZONE
TZID:Europe/Oslo
BEGIN:DAYLIGHT
TZOFFSETFROM:+0100
TZOFFSETTO:+0200
TZNAME:CEST
DTSTART:20230326T010000
END:DAYLIGHT
BEGIN:STANDARD
TZOFFSETFROM:+0200
TZOFFSETTO:+0100
TZNAME:CET
DTSTART:20231029T010000
END:STANDARD
BEGIN:DAYLIGHT
TZOFFSETFROM:+0100
TZOFFSETTO:+0200
TZNAME:CEST
DTSTART:20240331T010000
END:DAYLIGHT
BEGIN:STANDARD
TZOFFSETFROM:+0200
TZOFFSETTO:+0100
TZNAME:CET
DTSTART:20241027T010000
END:STANDARD
BEGIN:DAYLIGHT
TZOFFSETFROM:+0100
TZOFFSETTO:+0200
TZNAME:CEST
DTSTART:20250330T010000
END:DAYLIGHT
BEGIN:STANDARD
TZOFFSETFROM:+0200
TZOFFSETTO:+0100
TZNAME:CET
DTSTART:20251026T010000
END:STANDARD
END:VTIMEZONE
BEGIN:VEVENT
DTSTART;TZID=Europe/Oslo:20241109T180000
DTEND;TZID=Europe/Oslo:20241109T223000
DTSTAMP:20260424T115826
CREATED:20240905T094320Z
LAST-MODIFIED:20240905T094320Z
UID:10000250-1731175200-1731191400@nafmcoslo.no
SUMMARY:Hi-fest
DESCRIPTION:Vi arrangerer Hi-fest på klubbhuset lørdag 9. november fra kl. 1800 til sent. De fleste har vel satt inn syklene på dette tidspunktet\, og det er på tide å mimre litt over sesongen som har vært. Vi selger brus og annet på klubben\, men ikke alkohol. Det er lov å ta med medbrakt.
URL:https://nafmcoslo.no/kalender/hi-fest-4/
LOCATION:NAF MC Oslo\, Brynsveien 2-4\, Oslo\, 0667\, Norge
ATTACH;FMTTYPE=image/jpeg:https://nafmcoslo.no/wp-content/uploads/2021/04/Vinterlagring-IMG_0245.jpeg
END:VEVENT
END:VCALENDAR