BEGIN:VCALENDAR
VERSION:2.0
PRODID:-//NAF MC Oslo - ECPv6.15.18//NONSGML v1.0//EN
CALSCALE:GREGORIAN
METHOD:PUBLISH
X-ORIGINAL-URL:https://nafmcoslo.no
X-WR-CALDESC:Arrangement for NAF MC Oslo
REFRESH-INTERVAL;VALUE=DURATION:PT1H
X-Robots-Tag:noindex
X-PUBLISHED-TTL:PT1H
BEGIN:VTIMEZONE
TZID:Europe/Oslo
BEGIN:DAYLIGHT
TZOFFSETFROM:+0100
TZOFFSETTO:+0200
TZNAME:CEST
DTSTART:20250330T010000
END:DAYLIGHT
BEGIN:STANDARD
TZOFFSETFROM:+0200
TZOFFSETTO:+0100
TZNAME:CET
DTSTART:20251026T010000
END:STANDARD
BEGIN:DAYLIGHT
TZOFFSETFROM:+0100
TZOFFSETTO:+0200
TZNAME:CEST
DTSTART:20260329T010000
END:DAYLIGHT
BEGIN:STANDARD
TZOFFSETFROM:+0200
TZOFFSETTO:+0100
TZNAME:CET
DTSTART:20261025T010000
END:STANDARD
BEGIN:DAYLIGHT
TZOFFSETFROM:+0100
TZOFFSETTO:+0200
TZNAME:CEST
DTSTART:20270328T010000
END:DAYLIGHT
BEGIN:STANDARD
TZOFFSETFROM:+0200
TZOFFSETTO:+0100
TZNAME:CET
DTSTART:20271031T010000
END:STANDARD
END:VTIMEZONE
BEGIN:VEVENT
DTSTART;TZID=Europe/Oslo:20260304T180000
DTEND;TZID=Europe/Oslo:20260304T210000
DTSTAMP:20260423T194817
CREATED:20251128T095056Z
LAST-MODIFIED:20260220T145126Z
UID:10000281-1772647200-1772658000@nafmcoslo.no
SUMMARY:Årsmøte i NAF MC Oslo 2026
DESCRIPTION:Årsmøte i NAF MC Oslo blir 5. mars 2025 på klubbhuset i Brynsveien 2-4 kl.1800. Frist for forslag til vedtektsendringer er 31. desember 2024. Forslag som skal behandles på Årsmøtet må sendes inn skriftlig til kontakt@nafmcoslo.no innen 12. februar. Kun medlemmer i NAF MC Oslo kan møte. Medlemsbevis må fremvises ved ankomst. De som ankommer etter at møtet er satt kan komme inn\, men har ikke stemmerett. \nAgenda: \n\nValg av ordstyrer\nValg av møtereferent og to til å underskrive referatet\nInnkalling til årsmøtet\nÅrsberetning for foregående år\nRegnskap foregående år\nBudsjett påbegynt år\nInnkomne forslag\, vedtektsendringer\nValg
URL:https://nafmcoslo.no/kalender/arsmote-i-naf-mc-oslo-2026/
LOCATION:NAF MC Oslo\, Brynsveien 2-4\, Oslo\, 0667\, Norge
ATTACH;FMTTYPE=image/jpeg:https://nafmcoslo.no/wp-content/uploads/2023/08/klubbe-2.jpg
END:VEVENT
BEGIN:VEVENT
DTSTART;TZID=Europe/Oslo:20260311T180000
DTEND;TZID=Europe/Oslo:20260311T210000
DTSTAMP:20260423T194817
CREATED:20260309T105806Z
LAST-MODIFIED:20260309T105806Z
UID:10000285-1773252000-1773262800@nafmcoslo.no
SUMMARY:Klubbkveld hos Bullfighter 11. mars
DESCRIPTION:Årsmøte i NAF MC Oslo blir 5. mars 2025 på klubbhuset i Brynsveien 2-4 kl.1800. Frist for forslag til vedtektsendringer er 31. desember 2024. Forslag som skal behandles på Årsmøtet må sendes inn skriftlig til kontakt@nafmcoslo.no innen 12. februar. Kun medlemmer i NAF MC Oslo kan møte. Medlemsbevis må fremvises ved ankomst. De som ankommer etter at møtet er satt kan komme inn\, men har ikke stemmerett. \nAgenda: \n\nValg av ordstyrer\nValg av møtereferent og to til å underskrive referatet\nInnkalling til årsmøtet\nÅrsberetning for foregående år\nRegnskap foregående år\nBudsjett påbegynt år\nInnkomne forslag\, vedtektsendringer\nValg
URL:https://nafmcoslo.no/kalender/klubbkveld-hos-bullfighter-11-mars/
LOCATION:Bullfighter AS\, Nedre Kalbakkvei 88\, Oslo\, 1081\, Norge
END:VEVENT
BEGIN:VEVENT
DTSTART;TZID=Europe/Oslo:20260313T180000
DTEND;TZID=Europe/Oslo:20260313T233000
DTSTAMP:20260423T194817
CREATED:20260209T080511Z
LAST-MODIFIED:20260209T080628Z
UID:10000284-1773424800-1773444600@nafmcoslo.no
SUMMARY:Pubrunde fredag 13. mars
DESCRIPTION:Årsmøte i NAF MC Oslo blir 5. mars 2025 på klubbhuset i Brynsveien 2-4 kl.1800. Frist for forslag til vedtektsendringer er 31. desember 2024. Forslag som skal behandles på Årsmøtet må sendes inn skriftlig til kontakt@nafmcoslo.no innen 12. februar. Kun medlemmer i NAF MC Oslo kan møte. Medlemsbevis må fremvises ved ankomst. De som ankommer etter at møtet er satt kan komme inn\, men har ikke stemmerett. \nAgenda: \n\nValg av ordstyrer\nValg av møtereferent og to til å underskrive referatet\nInnkalling til årsmøtet\nÅrsberetning for foregående år\nRegnskap foregående år\nBudsjett påbegynt år\nInnkomne forslag\, vedtektsendringer\nValg
URL:https://nafmcoslo.no/kalender/pubrunde-fredag-13-mars/
LOCATION:Eilifs landhandleri\, Kristan IVs gt 1\, Oslo\, Oslo\, 0164\, Norge
END:VEVENT
BEGIN:VEVENT
DTSTART;TZID=Europe/Oslo:20260319T190000
DTEND;TZID=Europe/Oslo:20260319T220000
DTSTAMP:20260423T194817
CREATED:20260310T165328Z
LAST-MODIFIED:20260310T165328Z
UID:10000290-1773946800-1773957600@nafmcoslo.no
SUMMARY:Klubbkveld
DESCRIPTION:Årsmøte i NAF MC Oslo blir 5. mars 2025 på klubbhuset i Brynsveien 2-4 kl.1800. Frist for forslag til vedtektsendringer er 31. desember 2024. Forslag som skal behandles på Årsmøtet må sendes inn skriftlig til kontakt@nafmcoslo.no innen 12. februar. Kun medlemmer i NAF MC Oslo kan møte. Medlemsbevis må fremvises ved ankomst. De som ankommer etter at møtet er satt kan komme inn\, men har ikke stemmerett. \nAgenda: \n\nValg av ordstyrer\nValg av møtereferent og to til å underskrive referatet\nInnkalling til årsmøtet\nÅrsberetning for foregående år\nRegnskap foregående år\nBudsjett påbegynt år\nInnkomne forslag\, vedtektsendringer\nValg
URL:https://nafmcoslo.no/kalender/klubbkveld-4/
LOCATION:NAF MC Oslo\, Brynsveien 2-4\, Oslo\, 0667\, Norge
CATEGORIES:Klubbkveld
END:VEVENT
BEGIN:VEVENT
DTSTART;TZID=Europe/Oslo:20260326T190000
DTEND;TZID=Europe/Oslo:20260326T210000
DTSTAMP:20260423T194817
CREATED:20260314T141746Z
LAST-MODIFIED:20260314T141746Z
UID:10000297-1774551600-1774558800@nafmcoslo.no
SUMMARY:Klubbkveld med MC-Akademiet
DESCRIPTION:Årsmøte i NAF MC Oslo blir 5. mars 2025 på klubbhuset i Brynsveien 2-4 kl.1800. Frist for forslag til vedtektsendringer er 31. desember 2024. Forslag som skal behandles på Årsmøtet må sendes inn skriftlig til kontakt@nafmcoslo.no innen 12. februar. Kun medlemmer i NAF MC Oslo kan møte. Medlemsbevis må fremvises ved ankomst. De som ankommer etter at møtet er satt kan komme inn\, men har ikke stemmerett. \nAgenda: \n\nValg av ordstyrer\nValg av møtereferent og to til å underskrive referatet\nInnkalling til årsmøtet\nÅrsberetning for foregående år\nRegnskap foregående år\nBudsjett påbegynt år\nInnkomne forslag\, vedtektsendringer\nValg
URL:https://nafmcoslo.no/kalender/klubbkveld-med-mc-akademiet-2/
LOCATION:NAF MC Oslo\, Brynsveien 2-4\, Oslo\, 0667\, Norge
ATTACH;FMTTYPE=image/jpeg:https://nafmcoslo.no/wp-content/uploads/2024/01/Arctic-Circle-Raceway.jpg
END:VEVENT
BEGIN:VEVENT
DTSTART;TZID=Europe/Oslo:20260402T100000
DTEND;TZID=Europe/Oslo:20260402T190000
DTSTAMP:20260423T194817
CREATED:20260310T155910Z
LAST-MODIFIED:20260401T104947Z
UID:10000289-1775124000-1775156400@nafmcoslo.no
SUMMARY:AVLYST! Sesongåpning med tur til Charlottenberg
DESCRIPTION:Årsmøte i NAF MC Oslo blir 5. mars 2025 på klubbhuset i Brynsveien 2-4 kl.1800. Frist for forslag til vedtektsendringer er 31. desember 2024. Forslag som skal behandles på Årsmøtet må sendes inn skriftlig til kontakt@nafmcoslo.no innen 12. februar. Kun medlemmer i NAF MC Oslo kan møte. Medlemsbevis må fremvises ved ankomst. De som ankommer etter at møtet er satt kan komme inn\, men har ikke stemmerett. \nAgenda: \n\nValg av ordstyrer\nValg av møtereferent og to til å underskrive referatet\nInnkalling til årsmøtet\nÅrsberetning for foregående år\nRegnskap foregående år\nBudsjett påbegynt år\nInnkomne forslag\, vedtektsendringer\nValg
URL:https://nafmcoslo.no/kalender/sesongapning-med-tur-til-charlottenberg-2/
LOCATION:Uno-X Fetsund\, Kirkeveien 75\, Kirkeveien 75\, Fetsund\, 1900\, Norge
END:VEVENT
BEGIN:VEVENT
DTSTART;TZID=Europe/Oslo:20260415T170000
DTEND;TZID=Europe/Oslo:20260415T190000
DTSTAMP:20260423T194817
CREATED:20260316T105632Z
LAST-MODIFIED:20260316T105632Z
UID:10000298-1776272400-1776279600@nafmcoslo.no
SUMMARY:Klubbkveld hos AGM Oslo
DESCRIPTION:Årsmøte i NAF MC Oslo blir 5. mars 2025 på klubbhuset i Brynsveien 2-4 kl.1800. Frist for forslag til vedtektsendringer er 31. desember 2024. Forslag som skal behandles på Årsmøtet må sendes inn skriftlig til kontakt@nafmcoslo.no innen 12. februar. Kun medlemmer i NAF MC Oslo kan møte. Medlemsbevis må fremvises ved ankomst. De som ankommer etter at møtet er satt kan komme inn\, men har ikke stemmerett. \nAgenda: \n\nValg av ordstyrer\nValg av møtereferent og to til å underskrive referatet\nInnkalling til årsmøtet\nÅrsberetning for foregående år\nRegnskap foregående år\nBudsjett påbegynt år\nInnkomne forslag\, vedtektsendringer\nValg
URL:https://nafmcoslo.no/kalender/klubbkveld-hos-agm-oslo/
LOCATION:AGM Oslo\, Alfaset 1\, Industrivei 4\, Oslo\, Oslo\, 0668\, Norge
END:VEVENT
BEGIN:VEVENT
DTSTART;TZID=Europe/Oslo:20260416T190000
DTEND;TZID=Europe/Oslo:20260416T220000
DTSTAMP:20260423T194817
CREATED:20260312T074746Z
LAST-MODIFIED:20260312T074746Z
UID:10000293-1776366000-1776376800@nafmcoslo.no
SUMMARY:Klubbkveld
DESCRIPTION:Årsmøte i NAF MC Oslo blir 5. mars 2025 på klubbhuset i Brynsveien 2-4 kl.1800. Frist for forslag til vedtektsendringer er 31. desember 2024. Forslag som skal behandles på Årsmøtet må sendes inn skriftlig til kontakt@nafmcoslo.no innen 12. februar. Kun medlemmer i NAF MC Oslo kan møte. Medlemsbevis må fremvises ved ankomst. De som ankommer etter at møtet er satt kan komme inn\, men har ikke stemmerett. \nAgenda: \n\nValg av ordstyrer\nValg av møtereferent og to til å underskrive referatet\nInnkalling til årsmøtet\nÅrsberetning for foregående år\nRegnskap foregående år\nBudsjett påbegynt år\nInnkomne forslag\, vedtektsendringer\nValg
URL:https://nafmcoslo.no/kalender/klubbkveld-6/
LOCATION:NAF MC Oslo\, Brynsveien 2-4\, Oslo\, 0667\, Norge
END:VEVENT
BEGIN:VEVENT
DTSTART;TZID=Europe/Oslo:20260419T095500
DTEND;TZID=Europe/Oslo:20260419T140000
DTSTAMP:20260423T194817
CREATED:20260414T111731Z
LAST-MODIFIED:20260418T064907Z
UID:10000301-1776592500-1776607200@nafmcoslo.no
SUMMARY:Søndagstur 19. april er avlyst
DESCRIPTION:Årsmøte i NAF MC Oslo blir 5. mars 2025 på klubbhuset i Brynsveien 2-4 kl.1800. Frist for forslag til vedtektsendringer er 31. desember 2024. Forslag som skal behandles på Årsmøtet må sendes inn skriftlig til kontakt@nafmcoslo.no innen 12. februar. Kun medlemmer i NAF MC Oslo kan møte. Medlemsbevis må fremvises ved ankomst. De som ankommer etter at møtet er satt kan komme inn\, men har ikke stemmerett. \nAgenda: \n\nValg av ordstyrer\nValg av møtereferent og to til å underskrive referatet\nInnkalling til årsmøtet\nÅrsberetning for foregående år\nRegnskap foregående år\nBudsjett påbegynt år\nInnkomne forslag\, vedtektsendringer\nValg
URL:https://nafmcoslo.no/kalender/sondagstur-til-holmsbu-19-april/
LOCATION:Circle K Brynseng\, Østensjøveien 32\, Oslo\, Oslo\, 0667\, Norge
ATTACH;FMTTYPE=image/jpeg:https://nafmcoslo.no/wp-content/uploads/2026/03/20140630_104759-scaled.jpg
END:VEVENT
BEGIN:VEVENT
DTSTART;TZID=Europe/Oslo:20260423T180000
DTEND;TZID=Europe/Oslo:20260423T220000
DTSTAMP:20260423T194817
CREATED:20260310T170123Z
LAST-MODIFIED:20260420T115307Z
UID:10000291-1776967200-1776981600@nafmcoslo.no
SUMMARY:Klubbkveld med grilling
DESCRIPTION:Årsmøte i NAF MC Oslo blir 5. mars 2025 på klubbhuset i Brynsveien 2-4 kl.1800. Frist for forslag til vedtektsendringer er 31. desember 2024. Forslag som skal behandles på Årsmøtet må sendes inn skriftlig til kontakt@nafmcoslo.no innen 12. februar. Kun medlemmer i NAF MC Oslo kan møte. Medlemsbevis må fremvises ved ankomst. De som ankommer etter at møtet er satt kan komme inn\, men har ikke stemmerett. \nAgenda: \n\nValg av ordstyrer\nValg av møtereferent og to til å underskrive referatet\nInnkalling til årsmøtet\nÅrsberetning for foregående år\nRegnskap foregående år\nBudsjett påbegynt år\nInnkomne forslag\, vedtektsendringer\nValg
URL:https://nafmcoslo.no/kalender/klubbkveld-5/
LOCATION:NAF MC Oslo\, Brynsveien 2-4\, Oslo\, 0667\, Norge
CATEGORIES:Klubbkveld
ATTACH;FMTTYPE=image/jpeg:https://nafmcoslo.no/wp-content/uploads/2021/04/Trafikksikkerhetsdag.jpg
END:VEVENT
BEGIN:VEVENT
DTSTART;TZID=Europe/Oslo:20260430T190000
DTEND;TZID=Europe/Oslo:20260430T220000
DTSTAMP:20260423T194817
CREATED:20260312T074907Z
LAST-MODIFIED:20260312T074907Z
UID:10000294-1777575600-1777586400@nafmcoslo.no
SUMMARY:Klubbkveld
DESCRIPTION:Årsmøte i NAF MC Oslo blir 5. mars 2025 på klubbhuset i Brynsveien 2-4 kl.1800. Frist for forslag til vedtektsendringer er 31. desember 2024. Forslag som skal behandles på Årsmøtet må sendes inn skriftlig til kontakt@nafmcoslo.no innen 12. februar. Kun medlemmer i NAF MC Oslo kan møte. Medlemsbevis må fremvises ved ankomst. De som ankommer etter at møtet er satt kan komme inn\, men har ikke stemmerett. \nAgenda: \n\nValg av ordstyrer\nValg av møtereferent og to til å underskrive referatet\nInnkalling til årsmøtet\nÅrsberetning for foregående år\nRegnskap foregående år\nBudsjett påbegynt år\nInnkomne forslag\, vedtektsendringer\nValg
URL:https://nafmcoslo.no/kalender/klubbkveld-7/
LOCATION:NAF MC Oslo\, Brynsveien 2-4\, Oslo\, 0667\, Norge
CATEGORIES:Klubbkveld
END:VEVENT
BEGIN:VEVENT
DTSTART;TZID=Europe/Oslo:20260501T100000
DTEND;TZID=Europe/Oslo:20260501T180000
DTSTAMP:20260423T194817
CREATED:20260312T080446Z
LAST-MODIFIED:20260312T080446Z
UID:10000296-1777629600-1777658400@nafmcoslo.no
SUMMARY:Kråkeracet
DESCRIPTION:Årsmøte i NAF MC Oslo blir 5. mars 2025 på klubbhuset i Brynsveien 2-4 kl.1800. Frist for forslag til vedtektsendringer er 31. desember 2024. Forslag som skal behandles på Årsmøtet må sendes inn skriftlig til kontakt@nafmcoslo.no innen 12. februar. Kun medlemmer i NAF MC Oslo kan møte. Medlemsbevis må fremvises ved ankomst. De som ankommer etter at møtet er satt kan komme inn\, men har ikke stemmerett. \nAgenda: \n\nValg av ordstyrer\nValg av møtereferent og to til å underskrive referatet\nInnkalling til årsmøtet\nÅrsberetning for foregående år\nRegnskap foregående år\nBudsjett påbegynt år\nInnkomne forslag\, vedtektsendringer\nValg
URL:https://nafmcoslo.no/kalender/krakeracet-5/
LOCATION:ST1 Mortensrud
CATEGORIES:Dagsturer
END:VEVENT
BEGIN:VEVENT
DTSTART;TZID=Europe/Oslo:20260513T180000
DTEND;TZID=Europe/Oslo:20260513T200000
DTSTAMP:20260423T194817
CREATED:20260420T114155Z
LAST-MODIFIED:20260420T114155Z
UID:10000302-1778695200-1778702400@nafmcoslo.no
SUMMARY:Kurs i dekkomlegging 13. mai
DESCRIPTION:Årsmøte i NAF MC Oslo blir 5. mars 2025 på klubbhuset i Brynsveien 2-4 kl.1800. Frist for forslag til vedtektsendringer er 31. desember 2024. Forslag som skal behandles på Årsmøtet må sendes inn skriftlig til kontakt@nafmcoslo.no innen 12. februar. Kun medlemmer i NAF MC Oslo kan møte. Medlemsbevis må fremvises ved ankomst. De som ankommer etter at møtet er satt kan komme inn\, men har ikke stemmerett. \nAgenda: \n\nValg av ordstyrer\nValg av møtereferent og to til å underskrive referatet\nInnkalling til årsmøtet\nÅrsberetning for foregående år\nRegnskap foregående år\nBudsjett påbegynt år\nInnkomne forslag\, vedtektsendringer\nValg
URL:https://nafmcoslo.no/kalender/kurs-i-dekkomlegging-13-mai/
LOCATION:NAF MC Oslo\, Brynsveien 2-4\, Oslo\, 0667\, Norge
ATTACH;FMTTYPE=image/jpeg:https://nafmcoslo.no/wp-content/uploads/2022/03/IMG_7090.jpeg
END:VEVENT
BEGIN:VEVENT
DTSTART;TZID=Europe/Oslo:20260514T190000
DTEND;TZID=Europe/Oslo:20260514T220000
DTSTAMP:20260423T194817
CREATED:20260312T075043Z
LAST-MODIFIED:20260312T075043Z
UID:10000295-1778785200-1778796000@nafmcoslo.no
SUMMARY:Klubbkveld
DESCRIPTION:Årsmøte i NAF MC Oslo blir 5. mars 2025 på klubbhuset i Brynsveien 2-4 kl.1800. Frist for forslag til vedtektsendringer er 31. desember 2024. Forslag som skal behandles på Årsmøtet må sendes inn skriftlig til kontakt@nafmcoslo.no innen 12. februar. Kun medlemmer i NAF MC Oslo kan møte. Medlemsbevis må fremvises ved ankomst. De som ankommer etter at møtet er satt kan komme inn\, men har ikke stemmerett. \nAgenda: \n\nValg av ordstyrer\nValg av møtereferent og to til å underskrive referatet\nInnkalling til årsmøtet\nÅrsberetning for foregående år\nRegnskap foregående år\nBudsjett påbegynt år\nInnkomne forslag\, vedtektsendringer\nValg
URL:https://nafmcoslo.no/kalender/klubbkveld-8/
LOCATION:NAF MC Oslo\, Brynsveien 2-4\, Oslo\, 0667\, Norge
CATEGORIES:Klubbkveld
END:VEVENT
BEGIN:VEVENT
DTSTART;TZID=Europe/Oslo:20260526T180000
DTEND;TZID=Europe/Oslo:20260526T200000
DTSTAMP:20260423T194817
CREATED:20260420T114313Z
LAST-MODIFIED:20260420T114405Z
UID:10000303-1779818400-1779825600@nafmcoslo.no
SUMMARY:Kurs i dekkomlegging 26. mai
DESCRIPTION:Årsmøte i NAF MC Oslo blir 5. mars 2025 på klubbhuset i Brynsveien 2-4 kl.1800. Frist for forslag til vedtektsendringer er 31. desember 2024. Forslag som skal behandles på Årsmøtet må sendes inn skriftlig til kontakt@nafmcoslo.no innen 12. februar. Kun medlemmer i NAF MC Oslo kan møte. Medlemsbevis må fremvises ved ankomst. De som ankommer etter at møtet er satt kan komme inn\, men har ikke stemmerett. \nAgenda: \n\nValg av ordstyrer\nValg av møtereferent og to til å underskrive referatet\nInnkalling til årsmøtet\nÅrsberetning for foregående år\nRegnskap foregående år\nBudsjett påbegynt år\nInnkomne forslag\, vedtektsendringer\nValg
URL:https://nafmcoslo.no/kalender/kurs-i-dekkomlegging-26-mai/
LOCATION:NAF MC Oslo\, Brynsveien 2-4\, Oslo\, 0667\, Norge
ATTACH;FMTTYPE=image/jpeg:https://nafmcoslo.no/wp-content/uploads/2022/03/IMG_7090.jpeg
END:VEVENT
BEGIN:VEVENT
DTSTART;TZID=Europe/Oslo:20260528T190000
DTEND;TZID=Europe/Oslo:20260528T220000
DTSTAMP:20260423T194817
CREATED:20260319T084154Z
LAST-MODIFIED:20260319T084154Z
UID:10000299-1779994800-1780005600@nafmcoslo.no
SUMMARY:Klubbkveld
DESCRIPTION:Årsmøte i NAF MC Oslo blir 5. mars 2025 på klubbhuset i Brynsveien 2-4 kl.1800. Frist for forslag til vedtektsendringer er 31. desember 2024. Forslag som skal behandles på Årsmøtet må sendes inn skriftlig til kontakt@nafmcoslo.no innen 12. februar. Kun medlemmer i NAF MC Oslo kan møte. Medlemsbevis må fremvises ved ankomst. De som ankommer etter at møtet er satt kan komme inn\, men har ikke stemmerett. \nAgenda: \n\nValg av ordstyrer\nValg av møtereferent og to til å underskrive referatet\nInnkalling til årsmøtet\nÅrsberetning for foregående år\nRegnskap foregående år\nBudsjett påbegynt år\nInnkomne forslag\, vedtektsendringer\nValg
URL:https://nafmcoslo.no/kalender/klubbkveld-9/
LOCATION:NAF MC Oslo\, Brynsveien 2-4\, Oslo\, 0667\, Norge
CATEGORIES:Klubbkveld
END:VEVENT
BEGIN:VEVENT
DTSTART;TZID=Europe/Oslo:20260611T190000
DTEND;TZID=Europe/Oslo:20260611T220000
DTSTAMP:20260423T194817
CREATED:20260319T084314Z
LAST-MODIFIED:20260319T084314Z
UID:10000300-1781204400-1781215200@nafmcoslo.no
SUMMARY:Klubbkveld
DESCRIPTION:Årsmøte i NAF MC Oslo blir 5. mars 2025 på klubbhuset i Brynsveien 2-4 kl.1800. Frist for forslag til vedtektsendringer er 31. desember 2024. Forslag som skal behandles på Årsmøtet må sendes inn skriftlig til kontakt@nafmcoslo.no innen 12. februar. Kun medlemmer i NAF MC Oslo kan møte. Medlemsbevis må fremvises ved ankomst. De som ankommer etter at møtet er satt kan komme inn\, men har ikke stemmerett. \nAgenda: \n\nValg av ordstyrer\nValg av møtereferent og to til å underskrive referatet\nInnkalling til årsmøtet\nÅrsberetning for foregående år\nRegnskap foregående år\nBudsjett påbegynt år\nInnkomne forslag\, vedtektsendringer\nValg
URL:https://nafmcoslo.no/kalender/klubbkveld-10/
LOCATION:NAF MC Oslo\, Brynsveien 2-4\, Oslo\, 0667\, Norge
CATEGORIES:Klubbkveld
END:VEVENT
END:VCALENDAR