BEGIN:VCALENDAR
VERSION:2.0
PRODID:-//NAF MC Oslo - ECPv6.15.18//NONSGML v1.0//EN
CALSCALE:GREGORIAN
METHOD:PUBLISH
X-ORIGINAL-URL:https://nafmcoslo.no
X-WR-CALDESC:Arrangement for NAF MC Oslo
REFRESH-INTERVAL;VALUE=DURATION:PT1H
X-Robots-Tag:noindex
X-PUBLISHED-TTL:PT1H
BEGIN:VTIMEZONE
TZID:Europe/Oslo
BEGIN:DAYLIGHT
TZOFFSETFROM:+0100
TZOFFSETTO:+0200
TZNAME:CEST
DTSTART:20200329T010000
END:DAYLIGHT
BEGIN:STANDARD
TZOFFSETFROM:+0200
TZOFFSETTO:+0100
TZNAME:CET
DTSTART:20201025T010000
END:STANDARD
BEGIN:DAYLIGHT
TZOFFSETFROM:+0100
TZOFFSETTO:+0200
TZNAME:CEST
DTSTART:20210328T010000
END:DAYLIGHT
BEGIN:STANDARD
TZOFFSETFROM:+0200
TZOFFSETTO:+0100
TZNAME:CET
DTSTART:20211031T010000
END:STANDARD
BEGIN:DAYLIGHT
TZOFFSETFROM:+0100
TZOFFSETTO:+0200
TZNAME:CEST
DTSTART:20220327T010000
END:DAYLIGHT
BEGIN:STANDARD
TZOFFSETFROM:+0200
TZOFFSETTO:+0100
TZNAME:CET
DTSTART:20221030T010000
END:STANDARD
END:VTIMEZONE
BEGIN:VEVENT
DTSTART;VALUE=DATE:20210819
DTEND;VALUE=DATE:20210824
DTSTAMP:20260423T121356
CREATED:20210216T122955Z
LAST-MODIFIED:20210426T085938Z
UID:10000089-1629338400-1629683999@nafmcoslo.no
SUMMARY:Weekendtur
DESCRIPTION:Augusttur 2021\nVår tradisjonsrike Augusttur går i år til Måløy fra torsdag 19. til søndag 22. august. Vi vil oppleve fjell\, fjord og flotte fergeturer på beste Vestland. Vi deler oss inn i grupper av 5-6 sykler etter erfaring og kjørestil.
URL:https://nafmcoslo.no/kalender/weekendtur/
LOCATION:Oslo\, Norge
CATEGORIES:Turer
END:VEVENT
BEGIN:VEVENT
DTSTART;VALUE=DATE:20210805
DTEND;VALUE=DATE:20210809
DTSTAMP:20260423T121356
CREATED:20210217T135519Z
LAST-MODIFIED:20210526T193908Z
UID:10000093-1628121600-1628467199@nafmcoslo.no
SUMMARY:Ungtur
DESCRIPTION:Bli med på langtur 5.-8. august: Oslo – Rauland – Sirdal – Arendal. Ung-komiteen i NAF MC Oslo arrangerer hvert år helgetur med likesinnede i alderen 18 til 33 år. Vi har booket overnatting på vei til vestlandet og hjem igjen med plass til 15 deltakere på dobbeltrom. \nFor mer informasjon  og påmelding se: Ungtur 5.-8. august – NAF MC Oslo
URL:https://nafmcoslo.no/kalender/ung-langtur/
LOCATION:Oslo\, Norge
CATEGORIES:Ung 33
ATTACH;FMTTYPE=image/jpeg:https://nafmcoslo.no/wp-content/uploads/2021/04/ungtur.jpg
END:VEVENT
BEGIN:VEVENT
DTSTART;VALUE=DATE:20210521
DTEND;VALUE=DATE:20210526
DTSTAMP:20260423T121356
CREATED:20210216T121615Z
LAST-MODIFIED:20210428T123440Z
UID:10000088-1621562400-1621907999@nafmcoslo.no
SUMMARY:Pinsetur
DESCRIPTION:Vår tradisjonsrike Pinsetur går i år til Bømlo og Hardanger fra fredag 21. til mandag 24. mai. Vi vil oppleve snødekte fjell\, høye brøytekanter og den vakre fruktblomstringen i Hardanger. For mer og påmelding se:
URL:https://nafmcoslo.no/kalender/pinsetur/
LOCATION:Oslo\, Norge
CATEGORIES:Turer
ATTACH;FMTTYPE=image/jpeg:https://nafmcoslo.no/wp-content/uploads/2021/02/tur-1624x914-1.jpg
END:VEVENT
END:VCALENDAR