BEGIN:VCALENDAR
VERSION:2.0
PRODID:-//NAF MC Oslo - ECPv6.15.18//NONSGML v1.0//EN
CALSCALE:GREGORIAN
METHOD:PUBLISH
X-WR-CALNAME:NAF MC Oslo
X-ORIGINAL-URL:https://nafmcoslo.no
X-WR-CALDESC:Arrangement for NAF MC Oslo
REFRESH-INTERVAL;VALUE=DURATION:PT1H
X-Robots-Tag:noindex
X-PUBLISHED-TTL:PT1H
BEGIN:VTIMEZONE
TZID:Europe/Oslo
BEGIN:DAYLIGHT
TZOFFSETFROM:+0100
TZOFFSETTO:+0200
TZNAME:CEST
DTSTART:20200329T010000
END:DAYLIGHT
BEGIN:STANDARD
TZOFFSETFROM:+0200
TZOFFSETTO:+0100
TZNAME:CET
DTSTART:20201025T010000
END:STANDARD
BEGIN:DAYLIGHT
TZOFFSETFROM:+0100
TZOFFSETTO:+0200
TZNAME:CEST
DTSTART:20210328T010000
END:DAYLIGHT
BEGIN:STANDARD
TZOFFSETFROM:+0200
TZOFFSETTO:+0100
TZNAME:CET
DTSTART:20211031T010000
END:STANDARD
BEGIN:DAYLIGHT
TZOFFSETFROM:+0100
TZOFFSETTO:+0200
TZNAME:CEST
DTSTART:20220327T010000
END:DAYLIGHT
BEGIN:STANDARD
TZOFFSETFROM:+0200
TZOFFSETTO:+0100
TZNAME:CET
DTSTART:20221030T010000
END:STANDARD
BEGIN:DAYLIGHT
TZOFFSETFROM:+0100
TZOFFSETTO:+0200
TZNAME:CEST
DTSTART:20230326T010000
END:DAYLIGHT
BEGIN:STANDARD
TZOFFSETFROM:+0200
TZOFFSETTO:+0100
TZNAME:CET
DTSTART:20231029T010000
END:STANDARD
BEGIN:DAYLIGHT
TZOFFSETFROM:+0100
TZOFFSETTO:+0200
TZNAME:CEST
DTSTART:20240331T010000
END:DAYLIGHT
BEGIN:STANDARD
TZOFFSETFROM:+0200
TZOFFSETTO:+0100
TZNAME:CET
DTSTART:20241027T010000
END:STANDARD
BEGIN:DAYLIGHT
TZOFFSETFROM:+0100
TZOFFSETTO:+0200
TZNAME:CEST
DTSTART:20250330T010000
END:DAYLIGHT
BEGIN:STANDARD
TZOFFSETFROM:+0200
TZOFFSETTO:+0100
TZNAME:CET
DTSTART:20251026T010000
END:STANDARD
BEGIN:DAYLIGHT
TZOFFSETFROM:+0100
TZOFFSETTO:+0200
TZNAME:CEST
DTSTART:20260329T010000
END:DAYLIGHT
BEGIN:STANDARD
TZOFFSETFROM:+0200
TZOFFSETTO:+0100
TZNAME:CET
DTSTART:20261025T010000
END:STANDARD
END:VTIMEZONE
BEGIN:VEVENT
DTSTART;TZID=Europe/Oslo:20250824T095500
DTEND;TZID=Europe/Oslo:20250824T180000
DTSTAMP:20260421T105406
CREATED:20250623T070152Z
LAST-MODIFIED:20250623T070152Z
UID:10000270-1756029300-1756058400@nafmcoslo.no
SUMMARY:Søndagstur til Gaustatoppen 24. august
DESCRIPTION:Søndag 24. august er det igjen tid for vår årlige dagstur til Gaustatoppen. Turen er på ca. 35 mil\, og vil ta ca. 8 timer\, inklusive pauser underveis. Oppmøte på Circle K E18 Lier ved Kjelstad kl. 0955. Møt opp med full tank på sykkelen og tom tank på sjåføren\, og ta med regntøy og annet etter været!
URL:https://nafmcoslo.no/kalender/sondagstur-til-gaustatoppen-24-august/
LOCATION:Circle K – Kjellstad (Lier)\, Circle K - Kjellstad (Lier)\, Drammen\, Norge
ATTACH;FMTTYPE=image/jpeg:https://nafmcoslo.no/wp-content/uploads/2024/03/20210815_122637.jpg
END:VEVENT
BEGIN:VEVENT
DTSTART;TZID=Europe/Oslo:20210917T130000
DTEND;TZID=Europe/Oslo:20210919T170000
DTSTAMP:20260421T105406
CREATED:20210801T153215Z
LAST-MODIFIED:20210906T183738Z
UID:10000111-1631883600-1632070800@nafmcoslo.no
SUMMARY:Straand-treffet 2021
DESCRIPTION:De søm ønsker å kjøre sammen til Straand-treffet i Vrådal kan møte opp litt før kl.1300 på Circle K ved Lier fredag 17. september. Den enkelte må selv sørge for å melde seg på treffet.
URL:https://nafmcoslo.no/kalender/felleskjoring-til-straand-treffet-2021/
LOCATION:Circle K – Kjellstad (Lier)\, Circle K - Kjellstad (Lier)\, Drammen\, Norge
END:VEVENT
END:VCALENDAR