BEGIN:VCALENDAR
VERSION:2.0
PRODID:-//NAF MC Oslo - ECPv6.15.18//NONSGML v1.0//EN
CALSCALE:GREGORIAN
METHOD:PUBLISH
X-ORIGINAL-URL:https://nafmcoslo.no
X-WR-CALDESC:Arrangement for NAF MC Oslo
REFRESH-INTERVAL;VALUE=DURATION:PT1H
X-Robots-Tag:noindex
X-PUBLISHED-TTL:PT1H
BEGIN:VTIMEZONE
TZID:Europe/Oslo
BEGIN:DAYLIGHT
TZOFFSETFROM:+0100
TZOFFSETTO:+0200
TZNAME:CEST
DTSTART:20200329T010000
END:DAYLIGHT
BEGIN:STANDARD
TZOFFSETFROM:+0200
TZOFFSETTO:+0100
TZNAME:CET
DTSTART:20201025T010000
END:STANDARD
BEGIN:DAYLIGHT
TZOFFSETFROM:+0100
TZOFFSETTO:+0200
TZNAME:CEST
DTSTART:20210328T010000
END:DAYLIGHT
BEGIN:STANDARD
TZOFFSETFROM:+0200
TZOFFSETTO:+0100
TZNAME:CET
DTSTART:20211031T010000
END:STANDARD
BEGIN:DAYLIGHT
TZOFFSETFROM:+0100
TZOFFSETTO:+0200
TZNAME:CEST
DTSTART:20220327T010000
END:DAYLIGHT
BEGIN:STANDARD
TZOFFSETFROM:+0200
TZOFFSETTO:+0100
TZNAME:CET
DTSTART:20221030T010000
END:STANDARD
BEGIN:DAYLIGHT
TZOFFSETFROM:+0100
TZOFFSETTO:+0200
TZNAME:CEST
DTSTART:20230326T010000
END:DAYLIGHT
BEGIN:STANDARD
TZOFFSETFROM:+0200
TZOFFSETTO:+0100
TZNAME:CET
DTSTART:20231029T010000
END:STANDARD
BEGIN:DAYLIGHT
TZOFFSETFROM:+0100
TZOFFSETTO:+0200
TZNAME:CEST
DTSTART:20240331T010000
END:DAYLIGHT
BEGIN:STANDARD
TZOFFSETFROM:+0200
TZOFFSETTO:+0100
TZNAME:CET
DTSTART:20241027T010000
END:STANDARD
END:VTIMEZONE
BEGIN:VEVENT
DTSTART;TZID=Europe/Oslo:20230610T100000
DTEND;TZID=Europe/Oslo:20230610T180000
DTSTAMP:20260423T160157
CREATED:20221206T102017Z
LAST-MODIFIED:20221206T102017Z
UID:10000190-1686391200-1686420000@nafmcoslo.no
SUMMARY:Dagstur UNG
DESCRIPTION:UNG-gjengen inviterer til dagstur for deg mellom 16 og 33. Sett av dagen! Vi møtes på Circle K. Brynseng ved klubben kl. 10.00.
URL:https://nafmcoslo.no/kalender/dagstur-ung-4/
LOCATION:Circle K\, Østensjøveien 32\, Oslo
CATEGORIES:Ung 33
ATTACH;FMTTYPE=image/jpeg:https://nafmcoslo.no/wp-content/uploads/2021/04/unge-IMG_5504.jpeg
END:VEVENT
BEGIN:VEVENT
DTSTART;TZID=Europe/Oslo:20220918T080000
DTEND;TZID=Europe/Oslo:20220918T170000
DTSTAMP:20260423T160157
CREATED:20211205T164019Z
LAST-MODIFIED:20220613T165220Z
UID:10000139-1663488000-1663520400@nafmcoslo.no
SUMMARY:Søndagstur til Holmsbu
DESCRIPTION:Vi avslutter sesongen med en siste søndagstur i klubbregi til Holmsbu. Avreise fra Cirkle K. Brynseng i Østensjøveien kl. 10.00. \nVelkommen! \n 
URL:https://nafmcoslo.no/kalender/sondagstur-til-holmsbu/
LOCATION:Circle K\, Østensjøveien 32\, Oslo
END:VEVENT
BEGIN:VEVENT
DTSTART;TZID=Europe/Oslo:20220820T100000
DTEND;TZID=Europe/Oslo:20220820T170000
DTSTAMP:20260423T160157
CREATED:20220131T173926Z
LAST-MODIFIED:20220815T204316Z
UID:10000157-1660989600-1661014800@nafmcoslo.no
SUMMARY:Dagstur UNG
DESCRIPTION:UNG-gjengen inviterer til dagstur for deg mellom 16 og 33. Sett av dagen! Vi møtes på Circle K. Brynseng ved klubben kl. 10.00.
URL:https://nafmcoslo.no/kalender/dagstur-ung-3/
LOCATION:Circle K\, Østensjøveien 32\, Oslo
CATEGORIES:Ung 33
ATTACH;FMTTYPE=image/jpeg:https://nafmcoslo.no/wp-content/uploads/2021/04/unge-IMG_5504.jpeg
END:VEVENT
BEGIN:VEVENT
DTSTART;TZID=Europe/Oslo:20210926T110000
DTEND;TZID=Europe/Oslo:20210926T160000
DTSTAMP:20260423T160157
CREATED:20210801T174656Z
LAST-MODIFIED:20210801T174829Z
UID:10000122-1632654000-1632672000@nafmcoslo.no
SUMMARY:Søndagstur
DESCRIPTION:I sommerhalvåret har vi søndagsturer. Ruta bestemmes av de som møter opp til tur.\nAlle søndagsturene våre starter fra Circle K i Østensjøveien 32 kl. 11:00 hvis ikke annet sted er oppgitt. Fellesturer og helgeturer har egne møtesteder og avreisetider det opplyses om.
URL:https://nafmcoslo.no/kalender/sondagstur-2/2021-09-26/
LOCATION:Circle K\, Østensjøveien 32\, Oslo
ATTACH;FMTTYPE=image/jpeg:https://nafmcoslo.no/wp-content/uploads/2021/04/unge-IMG_5504.jpeg
END:VEVENT
END:VCALENDAR